BEGIN:VCALENDAR
VERSION:2.0
PRODID:-//Plone.org//NONSGML plone.app.event//EN
X-WR-TIMEZONE:Europe/Rome
BEGIN:VEVENT
SUMMARY:Spigolature bibliografiche aldrovandiane
DTSTART;TZID=Europe/Rome;VALUE=DATE-TIME:20230405T100000
DTEND;TZID=Europe/Rome;VALUE=DATE-TIME:20230405T170000
DTSTAMP;VALUE=DATE-TIME:20260420T150045Z
UID:21a94596110f4e5094c158b68cca3b6e@beniculturali.unibo.it
CREATED;VALUE=DATE-TIME:20230322T094759Z
DESCRIPTION:Per amor di Bibliografia\, e per amore d’Ulisse.
LAST-MODIFIED;VALUE=DATE-TIME:20230330T092107Z
URL:https://beniculturali.unibo.it/it/eventi/spigolature-bibliografiche-al
 drovandiane
END:VEVENT
BEGIN:VTIMEZONE
TZID:Europe/Rome
X-LIC-LOCATION:Europe/Rome
BEGIN:DAYLIGHT
DTSTART;VALUE=DATE-TIME:20230326T030000
TZNAME:CEST
TZOFFSETFROM:+0100
TZOFFSETTO:+0200
END:DAYLIGHT
END:VTIMEZONE
END:VCALENDAR
