BEGIN:VCALENDAR
VERSION:2.0
PRODID:-//Plone.org//NONSGML plone.app.event//EN
X-WR-TIMEZONE:Europe/Rome
BEGIN:VEVENT
SUMMARY:Simul conversari ad amicum
DTSTART;VALUE=DATE:20230608
DTEND;VALUE=DATE:20230610
DTSTAMP;VALUE=DATE-TIME:20260422T183657Z
UID:d86deb1c14044e4e8ce1bcca21aed353@beniculturali.unibo.it
CREATED;VALUE=DATE-TIME:20230516T091018Z
DESCRIPTION:In memoria di Alba Maria Orselli
LAST-MODIFIED;VALUE=DATE-TIME:20230608T135016Z
URL:https://beniculturali.unibo.it/it/eventi/simul-conversari-ad-amicum
END:VEVENT
END:VCALENDAR
