BEGIN:VCALENDAR
VERSION:2.0
PRODID:-//Plone.org//NONSGML plone.app.event//EN
X-WR-TIMEZONE:Europe/Rome
BEGIN:VEVENT
SUMMARY:Recent Development in Human Evolution
DTSTART;TZID=Europe/Rome;VALUE=DATE-TIME:20150427T140000
DTEND;TZID=Europe/Rome;VALUE=DATE-TIME:20150430T170000
DTSTAMP;VALUE=DATE-TIME:20260426T021421Z
UID:676ab02b8ca8451f9387ce6bba0dfdf1@beniculturali.unibo.it
CREATED;VALUE=DATE-TIME:20150325T120841Z
DESCRIPTION:Seminari a cura di S. Benazzi.
LAST-MODIFIED;VALUE=DATE-TIME:20150330T063017Z
URL:https://beniculturali.unibo.it/it/eventi/recent-development-in-human-e
 volution
END:VEVENT
BEGIN:VTIMEZONE
TZID:Europe/Rome
X-LIC-LOCATION:Europe/Rome
BEGIN:DAYLIGHT
DTSTART;VALUE=DATE-TIME:20150329T030000
TZNAME:CEST
TZOFFSETFROM:+0100
TZOFFSETTO:+0200
END:DAYLIGHT
END:VTIMEZONE
END:VCALENDAR
