BEGIN:VCALENDAR
VERSION:2.0
PRODID:-//Plone.org//NONSGML plone.app.event//EN
X-WR-TIMEZONE:Europe/Rome
BEGIN:VEVENT
SUMMARY:Personal Digital Memories
DTSTART;VALUE=DATE:20211214
DTEND;VALUE=DATE:20211216
DTSTAMP;VALUE=DATE-TIME:20260422T084734Z
UID:4c91a190c47741c79f8d6780d3f3baa6@beniculturali.unibo.it
CREATED;VALUE=DATE-TIME:20211126T094104Z
DESCRIPTION:I fondi di persona dall'analogico al digitale
LAST-MODIFIED;VALUE=DATE-TIME:20211206T102909Z
URL:https://beniculturali.unibo.it/it/eventi/personal-digital-memories
END:VEVENT
END:VCALENDAR
