BEGIN:VCALENDAR
VERSION:2.0
PRODID:-//Plone.org//NONSGML plone.app.event//EN
X-WR-TIMEZONE:Europe/Rome
BEGIN:VEVENT
SUMMARY:Open Access e dintorni
DTSTART;TZID=Europe/Rome;VALUE=DATE-TIME:20211202T140000
DTEND;TZID=Europe/Rome;VALUE=DATE-TIME:20211202T160000
DTSTAMP;VALUE=DATE-TIME:20260419T214147Z
UID:51626f8c4e5a40b2bcb0223a9b14572c@beniculturali.unibo.it
CREATED;VALUE=DATE-TIME:20211005T104903Z
DESCRIPTION:Conferenza di Ilaria Fava all’interno del ciclo "Di carte\, 
 di libri e dintorni" a cura di Paola Degni\, Fiammetta Sabba\, Stefano All
 egrezza\, Lucia Sardo
LAST-MODIFIED;VALUE=DATE-TIME:20211005T105115Z
URL:https://beniculturali.unibo.it/it/eventi/open-access-e-dintorni
END:VEVENT
BEGIN:VTIMEZONE
TZID:Europe/Rome
X-LIC-LOCATION:Europe/Rome
BEGIN:STANDARD
DTSTART;VALUE=DATE-TIME:20211031T020000
TZNAME:CET
TZOFFSETFROM:+0200
TZOFFSETTO:+0100
END:STANDARD
END:VTIMEZONE
END:VCALENDAR
