BEGIN:VCALENDAR
VERSION:2.0
PRODID:-//Plone.org//NONSGML plone.app.event//EN
X-WR-TIMEZONE:Europe/Rome
BEGIN:VEVENT
SUMMARY:Omnia vincit liber. I Foglianti e le biblioteche degli Ordini reli
 giosi in età moderna
DTSTART;TZID=Europe/Rome;VALUE=DATE-TIME:20250303T160000
DTEND;TZID=Europe/Rome;VALUE=DATE-TIME:20250303T190000
DTSTAMP;VALUE=DATE-TIME:20260419T144406Z
UID:566d340f87764aba902300472dd344d4@beniculturali.unibo.it
CREATED;VALUE=DATE-TIME:20250527T120636Z
DESCRIPTION:Seminario di Enrico Pio Ardolino (Sapienza Università di Roma
 ) all’interno del ciclo "Di carte\, di libri e dintorni"
LAST-MODIFIED;VALUE=DATE-TIME:20250527T120709Z
URL:https://beniculturali.unibo.it/it/eventi/omnia-vincit-liber-i-fogliant
 i-e-le-biblioteche-degli-ordini-religiosi-in-eta-moderna
END:VEVENT
BEGIN:VTIMEZONE
TZID:Europe/Rome
X-LIC-LOCATION:Europe/Rome
BEGIN:STANDARD
DTSTART;VALUE=DATE-TIME:20241027T020000
TZNAME:CET
TZOFFSETFROM:+0200
TZOFFSETTO:+0100
END:STANDARD
END:VTIMEZONE
END:VCALENDAR
