BEGIN:VCALENDAR
VERSION:2.0
PRODID:-//Plone.org//NONSGML plone.app.event//EN
X-WR-TIMEZONE:Europe/Rome
BEGIN:VEVENT
SUMMARY:La Paleografia di Armando Petrucci
DTSTART;TZID=Europe/Rome;VALUE=DATE-TIME:20220331T100000
DTEND;TZID=Europe/Rome;VALUE=DATE-TIME:20220331T120000
DTSTAMP;VALUE=DATE-TIME:20260420T010721Z
UID:565929e3b6e04f3992d1cdba03275c5a@beniculturali.unibo.it
CREATED;VALUE=DATE-TIME:20220222T111432Z
DESCRIPTION:Conferenza di Antonio Ciaralli a cura di Paola Degni nell'ambi
 to del ciclo "Di carte\, di libri e dintorni"
LAST-MODIFIED;VALUE=DATE-TIME:20220222T121835Z
URL:https://beniculturali.unibo.it/it/eventi/la-paleografia-di-armando-pet
 rucci
END:VEVENT
BEGIN:VTIMEZONE
TZID:Europe/Rome
X-LIC-LOCATION:Europe/Rome
BEGIN:DAYLIGHT
DTSTART;VALUE=DATE-TIME:20220327T030000
TZNAME:CEST
TZOFFSETFROM:+0100
TZOFFSETTO:+0200
END:DAYLIGHT
END:VTIMEZONE
END:VCALENDAR
