BEGIN:VCALENDAR
VERSION:2.0
PRODID:-//Plone.org//NONSGML plone.app.event//EN
X-WR-TIMEZONE:Europe/Rome
BEGIN:VEVENT
SUMMARY:La medicina del lavoro nel XX secolo. Il caso italiano nel contest
 o internazionale
DTSTART;VALUE=DATE:20201113
DTEND;VALUE=DATE:20201115
DTSTAMP;VALUE=DATE-TIME:20260420T192323Z
UID:5df9d80dee5848a1b604704dd170c0c4@beniculturali.unibo.it
CREATED;VALUE=DATE-TIME:20201030T124537Z
DESCRIPTION:Convegno di studi
LAST-MODIFIED;VALUE=DATE-TIME:20201112T104511Z
URL:https://beniculturali.unibo.it/it/eventi/la-medicina-del-lavoro-nel-xx
 -secolo-il-caso-italiano-nel-contesto-internazionale
END:VEVENT
END:VCALENDAR
