BEGIN:VCALENDAR
VERSION:2.0
PRODID:-//Plone.org//NONSGML plone.app.event//EN
X-WR-TIMEZONE:Europe/Rome
BEGIN:VEVENT
SUMMARY:L’archivio di Rosa Genoni (1867-1954)\, sarta\, intellettuale\, 
 attivista politica e madre della moda italiana nel 70° della sua scompars
 a
DTSTART;TZID=Europe/Rome;VALUE=DATE-TIME:20240229T100000
DTEND;TZID=Europe/Rome;VALUE=DATE-TIME:20240229T130000
DTSTAMP;VALUE=DATE-TIME:20260423T033453Z
UID:6d0f498b9c6447e4bd39091bde3a5c72@beniculturali.unibo.it
CREATED;VALUE=DATE-TIME:20240130T171900Z
DESCRIPTION:All’interno del ciclo Di carte\, di libri e dintorni a cura 
 di Fiammetta Sabba\, Stefano Allegrezza\, Giulia Crippa\, Lucia Sardo\, El
 isa Tosi Brandi
LAST-MODIFIED;VALUE=DATE-TIME:20240130T172358Z
URL:https://beniculturali.unibo.it/it/eventi/l-archivio-di-rosa-genoni-186
 7-1954-sarta-intellettuale-attivista-politica-e-madre-della-moda-italiana-
 nel-70-della-sua-scomparsa
END:VEVENT
BEGIN:VTIMEZONE
TZID:Europe/Rome
X-LIC-LOCATION:Europe/Rome
BEGIN:STANDARD
DTSTART;VALUE=DATE-TIME:20231029T020000
TZNAME:CET
TZOFFSETFROM:+0200
TZOFFSETTO:+0100
END:STANDARD
END:VTIMEZONE
END:VCALENDAR
