BEGIN:VCALENDAR
VERSION:2.0
PRODID:-//Plone.org//NONSGML plone.app.event//EN
X-WR-TIMEZONE:Europe/Rome
BEGIN:VEVENT
SUMMARY:Gestione e valorizzazione dei fondi di persona
DTSTART;TZID=Europe/Rome;VALUE=DATE-TIME:20211124T090000
DTEND;TZID=Europe/Rome;VALUE=DATE-TIME:20211124T120000
DTSTAMP;VALUE=DATE-TIME:20260419T230639Z
UID:63ebde1c254848db89cefd8fb390fa04@beniculturali.unibo.it
CREATED;VALUE=DATE-TIME:20211005T104338Z
DESCRIPTION:Conferenza di Anna Manfron all’interno del ciclo "Di carte\,
  di libri e dintorni" a cura di Paola Degni\, Fiammetta Sabba\, Stefano Al
 legrezza\, Lucia Sardo
LAST-MODIFIED;VALUE=DATE-TIME:20211005T105710Z
URL:https://beniculturali.unibo.it/it/eventi/gestione-e-valorizzazione-dei
 -fondi-di-persona
END:VEVENT
BEGIN:VTIMEZONE
TZID:Europe/Rome
X-LIC-LOCATION:Europe/Rome
BEGIN:STANDARD
DTSTART;VALUE=DATE-TIME:20211031T020000
TZNAME:CET
TZOFFSETFROM:+0200
TZOFFSETTO:+0100
END:STANDARD
END:VTIMEZONE
END:VCALENDAR
