BEGIN:VCALENDAR
VERSION:2.0
PRODID:-//Plone.org//NONSGML plone.app.event//EN
X-WR-TIMEZONE:Europe/Rome
BEGIN:VEVENT
SUMMARY:Di Carte\, di Libri e Dintorni
DTSTART;VALUE=DATE:20221024
DTEND;VALUE=DATE:20230509
DTSTAMP;VALUE=DATE-TIME:20260419T215426Z
UID:d83c990a8bb04d2f82d462e93e05c91c@beniculturali.unibo.it
CREATED;VALUE=DATE-TIME:20221002T061019Z
DESCRIPTION:Ciclo di seminari a.a. 2022-2023 a cura di Stefano Allegrezza\
 , Paola Degni\, Fiammetta Sabba\, Lucia Sardo
LAST-MODIFIED;VALUE=DATE-TIME:20230501T075417Z
URL:https://beniculturali.unibo.it/it/eventi/di-carte-di-libri-e-dintorni-
 1
END:VEVENT
END:VCALENDAR
