BEGIN:VCALENDAR
VERSION:2.0
PRODID:-//Plone.org//NONSGML plone.app.event//EN
X-WR-TIMEZONE:Europe/Rome
BEGIN:VEVENT
SUMMARY:Darwin Day 2022
DTSTART;TZID=Europe/Rome;VALUE=DATE-TIME:20220215T180000
DTEND;TZID=Europe/Rome;VALUE=DATE-TIME:20220215T193000
DTSTAMP;VALUE=DATE-TIME:20260420T060401Z
UID:61a89a56acc04cb69da16c0a186312a2@beniculturali.unibo.it
CREATED;VALUE=DATE-TIME:20220201T083003Z
DESCRIPTION:SAPIENS come ci ha plasmati la cultura del passato
LAST-MODIFIED;VALUE=DATE-TIME:20220201T091343Z
URL:https://beniculturali.unibo.it/it/eventi/darwin-day-2022
END:VEVENT
BEGIN:VTIMEZONE
TZID:Europe/Rome
X-LIC-LOCATION:Europe/Rome
BEGIN:STANDARD
DTSTART;VALUE=DATE-TIME:20211031T020000
TZNAME:CET
TZOFFSETFROM:+0200
TZOFFSETTO:+0100
END:STANDARD
END:VTIMEZONE
END:VCALENDAR
