BEGIN:VCALENDAR
VERSION:2.0
PRODID:-//Plone.org//NONSGML plone.app.event//EN
X-WR-TIMEZONE:Europe/Rome
BEGIN:VEVENT
SUMMARY:Cantiere 'Documentazione'. I. Incontro.
DTSTART;TZID=Europe/Rome;VALUE=DATE-TIME:20150430T100000
DTEND;TZID=Europe/Rome;VALUE=DATE-TIME:20150430T170000
DTSTAMP;VALUE=DATE-TIME:20260426T045154Z
UID:7bd6ca5651b74cf4a3aa6c5187ba819a@beniculturali.unibo.it
CREATED;VALUE=DATE-TIME:20150323T124432Z
DESCRIPTION:Seminario a cura di F. Sabba.
LAST-MODIFIED;VALUE=DATE-TIME:20150608T070456Z
URL:https://beniculturali.unibo.it/it/eventi/cantiere-documentazione.-i.-i
 ncontro
END:VEVENT
BEGIN:VTIMEZONE
TZID:Europe/Rome
X-LIC-LOCATION:Europe/Rome
BEGIN:DAYLIGHT
DTSTART;VALUE=DATE-TIME:20150329T030000
TZNAME:CEST
TZOFFSETFROM:+0100
TZOFFSETTO:+0200
END:DAYLIGHT
END:VTIMEZONE
END:VCALENDAR
