BEGIN:VCALENDAR
VERSION:2.0
PRODID:-//Plone.org//NONSGML plone.app.event//EN
X-WR-TIMEZONE:Europe/Rome
BEGIN:VEVENT
SUMMARY:Biblioteche d’autore e criticità sul digitale: Magazzino Sangui
 neti alla prova del nove
DTSTART;TZID=Europe/Rome;VALUE=DATE-TIME:20211201T090000
DTEND;TZID=Europe/Rome;VALUE=DATE-TIME:20211201T120000
DTSTAMP;VALUE=DATE-TIME:20260419T235520Z
UID:453a50bc8c084fef8cf78e3480de4b59@beniculturali.unibo.it
CREATED;VALUE=DATE-TIME:20211005T103816Z
DESCRIPTION:Conferenza di Valentina Sonzini all’interno del ciclo "Di ca
 rte\, di libri e dintorni" a cura di Paola Degni\, Fiammetta Sabba\, Stefa
 no Allegrezza\, Lucia Sardo
LAST-MODIFIED;VALUE=DATE-TIME:20211005T105729Z
URL:https://beniculturali.unibo.it/it/eventi/biblioteche-d-autore-e-critic
 ita-sul-digitale-magazzino-sanguineti-alla-prova-del-nove
END:VEVENT
BEGIN:VTIMEZONE
TZID:Europe/Rome
X-LIC-LOCATION:Europe/Rome
BEGIN:STANDARD
DTSTART;VALUE=DATE-TIME:20211031T020000
TZNAME:CET
TZOFFSETFROM:+0200
TZOFFSETTO:+0100
END:STANDARD
END:VTIMEZONE
END:VCALENDAR
