BEGIN:VCALENDAR
VERSION:2.0
PRODID:-//Plone.org//NONSGML plone.app.event//EN
X-WR-TIMEZONE:Europe/Rome
BEGIN:VEVENT
SUMMARY:Alma Dante 2023
DTSTART;VALUE=DATE:20230517
DTEND;VALUE=DATE:20230521
DTSTAMP;VALUE=DATE-TIME:20260424T040725Z
UID:edd0da44b6c74f2f883337438b68a53f@beniculturali.unibo.it
CREATED;VALUE=DATE-TIME:20230422T055436Z
DESCRIPTION:Congresso Dantesco Internazionale - International Dante Confer
 ence
LAST-MODIFIED;VALUE=DATE-TIME:20230505T065111Z
URL:https://beniculturali.unibo.it/it/eventi/alma-dante-2023
END:VEVENT
END:VCALENDAR
