BEGIN:VCALENDAR
VERSION:2.0
PRODID:-//Plone.org//NONSGML plone.app.event//EN
X-WR-TIMEZONE:Europe/Rome
BEGIN:VEVENT
SUMMARY:A cosa serve descrivere manoscritti?
DTSTART;TZID=Europe/Rome;VALUE=DATE-TIME:20220404T100000
DTEND;TZID=Europe/Rome;VALUE=DATE-TIME:20220404T120000
DTSTAMP;VALUE=DATE-TIME:20260419T235344Z
UID:a4c4d423c4634c308c3f755856384f85@beniculturali.unibo.it
CREATED;VALUE=DATE-TIME:20220222T113638Z
DESCRIPTION:Esperienze di catalogazione alla Biblioteca dei Girolamini: il
  caso del Teseida di Boccaccio. Conferenza di Marco Cursi a cura di Paola 
 Degni nell'ambito del ciclo "Di carte\, di libri e dintorni"
LAST-MODIFIED;VALUE=DATE-TIME:20220222T121759Z
URL:https://beniculturali.unibo.it/it/eventi/a-cosa-serve-descrivere-manos
 critti
END:VEVENT
BEGIN:VTIMEZONE
TZID:Europe/Rome
X-LIC-LOCATION:Europe/Rome
BEGIN:DAYLIGHT
DTSTART;VALUE=DATE-TIME:20220327T030000
TZNAME:CEST
TZOFFSETFROM:+0100
TZOFFSETTO:+0200
END:DAYLIGHT
END:VTIMEZONE
END:VCALENDAR
